BEGIN:VCALENDAR
PRODID:-//eluceo/ical//2.0/EN
VERSION:2.0
CALSCALE:GREGORIAN
BEGIN:VEVENT
UID:91057867020afedfc053cab5aefb4b95
DTSTAMP:20260423T154347Z
SUMMARY:20260514_ Operation Ensemble Kuppel Basel
DTSTART:20260514T160000Z
DTEND:20260514T200000Z
END:VEVENT
END:VCALENDAR
